BEGIN:VCALENDAR
VERSION:2.0
PRODID:-//Scoutkåren Göta Lejon - ECPv6.15.20//NONSGML v1.0//EN
CALSCALE:GREGORIAN
METHOD:PUBLISH
X-WR-CALNAME:Scoutkåren Göta Lejon
X-ORIGINAL-URL:https://www.gotalejon.org
X-WR-CALDESC:Händelser för Scoutkåren Göta Lejon
REFRESH-INTERVAL;VALUE=DURATION:PT1H
X-Robots-Tag:noindex
X-PUBLISHED-TTL:PT1H
BEGIN:VTIMEZONE
TZID:Europe/Stockholm
BEGIN:DAYLIGHT
TZOFFSETFROM:+0100
TZOFFSETTO:+0200
TZNAME:CEST
DTSTART:20250330T010000
END:DAYLIGHT
BEGIN:STANDARD
TZOFFSETFROM:+0200
TZOFFSETTO:+0100
TZNAME:CET
DTSTART:20251026T010000
END:STANDARD
BEGIN:DAYLIGHT
TZOFFSETFROM:+0100
TZOFFSETTO:+0200
TZNAME:CEST
DTSTART:20260329T010000
END:DAYLIGHT
BEGIN:STANDARD
TZOFFSETFROM:+0200
TZOFFSETTO:+0100
TZNAME:CET
DTSTART:20261025T010000
END:STANDARD
BEGIN:DAYLIGHT
TZOFFSETFROM:+0100
TZOFFSETTO:+0200
TZNAME:CEST
DTSTART:20270328T010000
END:DAYLIGHT
BEGIN:STANDARD
TZOFFSETFROM:+0200
TZOFFSETTO:+0100
TZNAME:CET
DTSTART:20271031T010000
END:STANDARD
END:VTIMEZONE
BEGIN:VEVENT
DTSTART;TZID=Europe/Stockholm:20260513T110000
DTEND;TZID=Europe/Stockholm:20260516T130000
DTSTAMP:20260426T012210
CREATED:20260421T053113Z
LAST-MODIFIED:20260421T053113Z
UID:2509-1778670000-1778936400@www.gotalejon.org
SUMMARY:Kårläger 2026
DESCRIPTION:Under kristihimmelfärdshelgen åker kåren på sitt årliga kårläger på Trollsjönäs – det vill ni inte missa! \nMer information finns i bifogat bilaga nedan: \n  \nInbjudan till kårläger 2026
URL:https://www.gotalejon.org/kalender/karlager-2026/
LOCATION:Trollsjönäs\, Trollsjövägen 30\, Göteborg\, Sverige
END:VEVENT
BEGIN:VEVENT
DTSTART;TZID=Europe/Stockholm:20260725T080000
DTEND;TZID=Europe/Stockholm:20260801T170000
DTSTAMP:20260426T012210
CREATED:20260125T174727Z
LAST-MODIFIED:20260125T175608Z
UID:2484-1784966400-1785603600@www.gotalejon.org
SUMMARY:Jamboree 2026
DESCRIPTION:Snart är det dags för årets stora sommarläger – Jamboree 2026! Jamboree 2026 anordnas på lägerplatsen Norra Åsum strax utanför Kristianstad. Över 10000 scouter förväntas delta på ett läger som kommer att vara en upplevelse utöver det vanliga! \nFör mer information angående lägret och anmälan\, se bifogad pdf. OBS! Sista anmälningsdatum 31a januari. \nInbjudan till Jamboree26
URL:https://www.gotalejon.org/kalender/jamboree-2026/
LOCATION:Norra Åsum\, Kristianstad\, Sweden
END:VEVENT
END:VCALENDAR